BEGIN:VCALENDAR
VERSION:2.0
PRODID:-//ChamberMaster//Event Calendar 2.0//EN
METHOD:PUBLISH
X-PUBLISHED-TTL:P3D
REFRESH-INTERVAL:P3D
CALSCALE:GREGORIAN
BEGIN:VEVENT
DTSTART:20170929T180000Z
DTEND:20170929T210000Z
X-MICROSOFT-CDO-ALLDAYEVENT:FALSE
SUMMARY:Job Fair
DESCRIPTION:Saint-Gobain Sekurit & Performance Plastics will be hosting an onsite career fair. Bring your resume in person. See attached flyer for list of job openings.
X-ALT-DESC;FMTTYPE=text/html:<em><strong>Saint-Gobain Sekurit &amp\; Performance Plastics</strong></em> will be hosting an <span style="color:#FF0000\;"><strong><em>onsite career fair</em></strong></span>. Bring your resume in person. See attached flyer for list of job openings.
LOCATION:Saint-Gobain 7301 Orangewood Avenue Garden Grove\, CA 92841
UID:e.1315.6222
SEQUENCE:3
DTSTAMP:20260419T205334Z
URL:http://business.gardengrovechamber.com/events/details/job-fair-6222
END:VEVENT

END:VCALENDAR
