BEGIN:VCALENDAR
VERSION:2.0
PRODID:-//ChamberMaster//Event Calendar 2.0//EN
METHOD:PUBLISH
X-PUBLISHED-TTL:P3D
REFRESH-INTERVAL:P3D
CALSCALE:GREGORIAN
BEGIN:VEVENT
DTSTART:20170820T173000Z
DTEND:20170820T220000Z
X-MICROSOFT-CDO-ALLDAYEVENT:FALSE
SUMMARY:KaraokeFest 2017
DESCRIPTION:ATTENTION! All of the qualifying rounds for the Cr me de la Kids\, Cr me de la Tributes\, and Cr me de la King singing competitions will take place at Historic Main Street in Garden Grove\, presented by the Garden Grove Downtown Business Association. Karaoke Scene is proud to welcome Historic Main Street to our KaraokeFest singing contests and look forward to a long time relationship with them in future years. Historic Main Street has provided a great venue for these contests and we thank them for all of their support and cooperation.\n\n\n\n"Special thanks to Larry Vance (from the Azteca Mexican Restaurant) and Jill Lloyd from (Jill Lloyd and Associates\, Inc.) for their diligence and hard work in helping to put this all together."\n\n\n\nThe qualifying rounds for the Cr me de la Kids\, Cr me de la Tributes\, and Cr me de la King competitions\, held in conjunction with the Local Harvest Farmers Market\, will all take place on July 30th\, August 6th\, 13th & 20th (all Sundays). This year 5 (five) finalists will be chosen each week for the Kids & Tributes contests\, and 3 each week for the King contest to compete at KaraokeFest 2017 (no semi-finals).\n\n\n\nTributes is for anyone who does music impersonations of any celebrity\, except Elvis. There is another contest for Elvis Tribute Artists. Presented by Garden Grove Downtown Business Association and in conjunction with the Local Harvest Farmers Market.\n\n\n\nAward Winning KJ's every weekend.
X-ALT-DESC;FMTTYPE=text/html:ATTENTION! All of the qualifying rounds for the Cr&egrave\;me de la Kids\, Cr&egrave\;me de la Tributes\, and Cr&egrave\;me de la King singing competitions will take place at Historic Main Street in Garden Grove\, presented by the Garden Grove Downtown Business Association. Karaoke Scene is proud to welcome Historic Main Street to our KaraokeFest singing contests and look forward to a long time relationship with them in future years. Historic Main Street has provided a great venue for these contests and we thank them for all of their support and cooperation.<br />\n<br />\n&ldquo\;Special thanks to Larry Vance (from the Azteca Mexican Restaurant) and Jill Lloyd from (Jill Lloyd and Associates\, Inc.) for their diligence and hard work in helping to put this all together.&rdquo\;<br />\n<br />\nThe qualifying rounds for the Cr&egrave\;me de la Kids\, Cr&egrave\;me de la Tributes\, and Cr&egrave\;me de la King competitions\, held in conjunction with the Local Harvest Farmers Market\, will all take place on <strong>July 30th\, August 6th\, 13th &amp\; 20th (all Sundays)</strong>. This year 5 (five) finalists will be chosen each week for the Kids &amp\; Tributes contests\, and 3 each week for the King contest to compete at KaraokeFest 2017 (no semi-finals).<br />\n<br />\nTributes is for anyone who does music impersonations of any celebrity\, except Elvis. There is another contest for Elvis Tribute Artists. Presented by Garden Grove Downtown Business Association and in conjunction with the Local Harvest Farmers Market.<br />\n<br />\nAward Winning KJ&#39\;s every weekend.&nbsp\;
LOCATION:Historic Main Street\, Garden Grove
UID:e.1315.6175
SEQUENCE:3
DTSTAMP:20260419T235850Z
URL:http://business.gardengrovechamber.com/events/details/karaokefest-2017-08-20-2017-6175
END:VEVENT

END:VCALENDAR
