BEGIN:VCALENDAR
VERSION:2.0
PRODID:-//ChamberMaster//Event Calendar 2.0//EN
METHOD:PUBLISH
X-PUBLISHED-TTL:P3D
REFRESH-INTERVAL:P3D
CALSCALE:GREGORIAN
BEGIN:VEVENT
DTSTART:20160717T180000Z
DTEND:20160717T220000Z
X-MICROSOFT-CDO-ALLDAYEVENT:FALSE
SUMMARY:KaraokeFest Contests for Kids & Tributes
DESCRIPTION:A karaoke competition for kids 17 & under and celebrity music impersonators will be held in Sundays in July: July 17\, 24 and 31 on Historic Main Street in Garden Grove as part of the qualifying events for KaraokeFest 2016\, which is held at Los Angeles County Fair. Tributes is for anyone who does music impersonations of any celebrity\, except Elvis. There is another contest for Elvis Tribute Artists. Presented by Garden Grove Downtown Business Association and in conjunction with the Local Harvest Farmers Market.
X-ALT-DESC;FMTTYPE=text/html:A karaoke competition for kids 17 &amp\; under and celebrity music impersonators will be held in Sundays in July: July 17\, 24 and 31&nbsp\;on Historic Main Street in Garden Grove as part of the qualifying events for KaraokeFest 2016\, which is held at Los Angeles County Fair. Tributes is for anyone who does music impersonations of any celebrity\, except Elvis. There is another contest for Elvis Tribute Artists. Presented by Garden Grove Downtown Business Association and in conjunction with the Local Harvest Farmers Market.
LOCATION:Historic Main Street\, Garden Grove
UID:e.1315.5957
SEQUENCE:3
DTSTAMP:20260420T183230Z
URL:http://business.gardengrovechamber.com/events/details/karaokefest-contests-for-kids-tributes-07-17-2016-5957
END:VEVENT

END:VCALENDAR
