BEGIN:VCALENDAR
VERSION:2.0
PRODID:-//ChamberMaster//Event Calendar 2.0//EN
METHOD:PUBLISH
X-PUBLISHED-TTL:P3D
REFRESH-INTERVAL:P3D
CALSCALE:GREGORIAN
BEGIN:VEVENT
DTSTART;VALUE=DATE:20170817
DTEND;VALUE=DATE:20170818
TRANSP:TRANSPARENT
X-MICROSOFT-CDO-ALLDAYEVENT:TRUE
SUMMARY:King of Kings Lutheran School Registration
DESCRIPTION:2017/2018 Classes start 08/29\n\n\n\nBack to School Registration Thursday\, 08/17
X-ALT-DESC;FMTTYPE=text/html:2017/2018 Classes start 08/29<br />\n<br />\nBack to School Registration Thursday\, 08/17
LOCATION:King of Kings Lutheran School 13431 Newhope Street Garden Grove\, CA 92843
UID:e.1315.6171
SEQUENCE:3
DTSTAMP:20260419T222352Z
URL:http://business.gardengrovechamber.com/events/details/king-of-kings-lutheran-school-registration-6171
END:VEVENT

END:VCALENDAR
