BEGIN:VCALENDAR
VERSION:2.0
PRODID:-//ChamberMaster//Event Calendar 2.0//EN
METHOD:PUBLISH
X-PUBLISHED-TTL:P3D
REFRESH-INTERVAL:P3D
CALSCALE:GREGORIAN
BEGIN:VEVENT
DTSTART:20151021T010000Z
DTEND:20151021T050000Z
X-MICROSOFT-CDO-ALLDAYEVENT:FALSE
SUMMARY:Let's Put Garden Grove on the Map
DESCRIPTION:Google and Garden Grove have partnered to launch a new program called\, "Let's Put Our Cities on the Map" to help local businesses create\, or improve\, their online presence through Google Search and Maps.\n\n\n\nThe City will host a free workshop for businesses to learn about the programs and assist participants in developing their free Google business listing. Attendance is limited to 50 participants.
X-ALT-DESC;FMTTYPE=text/html:Google and Garden Grove have partnered to launch a new program called\, &quot\;Let&#39\;s Put Our Cities on the Map&quot\; to help local businesses create\, or improve\, their online presence through Google Search and Maps.<br />\n<br />\nThe City will host a free workshop for businesses to learn about the programs and assist participants in developing their free Google business listing. Attendance is limited to 50 participants.&nbsp\;&nbsp\;&nbsp\;&nbsp\;
LOCATION:Garden Grove Courtyard Center 12732 Main Street Garden Grove\, CA 92840
UID:e.1315.4702
SEQUENCE:3
DTSTAMP:20260423T145844Z
URL:http://business.gardengrovechamber.com/events/details/let-s-put-garden-grove-on-the-map-10-20-2015-4702
END:VEVENT

END:VCALENDAR
