BEGIN:VCALENDAR
VERSION:2.0
PRODID:-//ChamberMaster//Event Calendar 2.0//EN
METHOD:PUBLISH
X-PUBLISHED-TTL:P3D
REFRESH-INTERVAL:P3D
CALSCALE:GREGORIAN
BEGIN:VEVENT
DTSTART:20130108T193000Z
DTEND:20130108T210000Z
X-MICROSOFT-CDO-ALLDAYEVENT:FALSE
SUMMARY:Lunch & Learn Program: "Sustainability"
DESCRIPTION:Presented by Dr. Nadereh Afsharmanesh\n\nDirector of Sustainability\, Earth Friendly Products\n\n\n\nPlease join us for networking and lunch at Buca di Beppo. Dr. Nadereh Afsharmanesh of Earth Friendly Products will provide attendees with information on ongoing sustainability programs\, recycling\, waste reduction and much more for your business.\n\n\n\nRegister Here
X-ALT-DESC;FMTTYPE=text/html:Presented by Dr. Nadereh Afsharmanesh<br />\nDirector of Sustainability\, Earth Friendly Products<br />\n<br />\nPlease join us for networking and lunch at Buca di Beppo. Dr. Nadereh Afsharmanesh of Earth Friendly Products will&nbsp\;provide attendees with information on ongoing sustainability programs\, recycling\, waste reduction and much more for your business.<br />\n<br />\n<a href="http://events.constantcontact.com/register/event?llr=wy8hu7cab&amp\;oeidk=a07e6tdmdo00598bb32">Register Here</a>
LOCATION:Buca di Beppo 11757 Harbor Blvd. Garden Grove\, CA 92840 www.bucadibeppo.com
UID:e.1315.867
SEQUENCE:3
DTSTAMP:20260425T184915Z
URL:http://business.gardengrovechamber.com/events/details/lunch-learn-program-sustainability-01-08-2013-867
END:VEVENT

END:VCALENDAR
