BEGIN:VCALENDAR
VERSION:2.0
PRODID:-//ChamberMaster//Event Calendar 2.0//EN
METHOD:PUBLISH
X-PUBLISHED-TTL:P3D
REFRESH-INTERVAL:P3D
CALSCALE:GREGORIAN
BEGIN:VEVENT
DTSTART:20160807T180000Z
DTEND:20160807T210000Z
X-MICROSOFT-CDO-ALLDAYEVENT:FALSE
SUMMARY:McDonald's Ribbon Cutting Ceremony
DESCRIPTION:Please join us for a Grand Opening and Ribbon Cutting Ceremony for McDonald's rebuilt restaurant at 12051 Valley View in Garden Grove. Entertainment and activities include a fire truck\, police vehicle\, photo booth\, face painting\, local musicians and more! Serving complimentary Chicken McNuggets and McDonald's fresh baked cookies.\n\n\n\nFUN FACTS:\n\nThe Widdicombe Family opened their first McDonald's in March 1957 on Harbor and Lampson in Garden Grove. This restaurant is #2817\, and there are now 36\,258 restaurants in 119 countries. It initially opened on June 17\, 1974\, and was TOTALLY rebuilt for the grand opening August 7th. It has been owned and operated by the Widdicombe family since 1974. The Widdicombes were the first McDonald's owners in Orange County and the fifth owners in the world. They employ over 300 people in Garden Grove\, including 55 at the Valley View Location.
X-ALT-DESC;FMTTYPE=text/html:Please join us for a Grand Opening and Ribbon Cutting Ceremony for McDonald&rsquo\;s rebuilt restaurant at 12051 Valley View in Garden Grove. Entertainment and activities include a fire truck\, police vehicle\, photo booth\, face painting\, local musicians and more! Serving complimentary Chicken McNuggets and McDonald&rsquo\;s fresh baked cookies.<br />\n<br />\nFUN FACTS:<br />\nThe Widdicombe Family opened their first McDonald&rsquo\;s in March 1957 on Harbor and Lampson in Garden Grove. This restaurant is #2817\, and there are now 36\,258 restaurants in 119 countries. It initially opened on June 17\, 1974\, and was TOTALLY rebuilt for the grand opening August 7th. It has been owned and operated by the Widdicombe family since 1974. The Widdicombes were the first McDonald&#39\;s owners in Orange County and the fifth owners in the world. They employ over 300 people in Garden Grove\, including 55 at the Valley View Location.&nbsp\;
LOCATION:12051 Valley View Street Garden Grove\, CA 92845
UID:e.1315.5966
SEQUENCE:3
DTSTAMP:20260420T164946Z
URL:http://business.gardengrovechamber.com/events/details/mcdonald-s-ribbon-cutting-ceremony-08-07-2016-5966
END:VEVENT

END:VCALENDAR
