BEGIN:VCALENDAR
VERSION:2.0
PRODID:-//ChamberMaster//Event Calendar 2.0//EN
METHOD:PUBLISH
X-PUBLISHED-TTL:P3D
REFRESH-INTERVAL:P3D
CALSCALE:GREGORIAN
BEGIN:VEVENT
DTSTART:20170915T003000Z
DTEND:20170915T013000Z
X-MICROSOFT-CDO-ALLDAYEVENT:FALSE
SUMMARY:Medicare 101 Educational Introducton
DESCRIPTION:Brookdale Valley View Invites You!\n\n\n\nOpen Enrollment is coming up\, we are here to assist you with an educational Medicare 101 Introduction about Medicare and its Benefits\, and be able to ask questions directly with our Medicare Certified Advocate!\n\n\n\nMedicare 101 Educational Introduction Presented by: Ms. Jean Francois - AGA Elderly Medicare Certified Independent Insurance Advocate\n\n\n\nSpace is limited! Please RSVP - contact Brookdale Valley View Front Desk at (714) 898-3524
X-ALT-DESC;FMTTYPE=text/html:Brookdale Valley View Invites You!<br />\n<br />\nOpen Enrollment is coming up\, we are here to assist you with an educational Medicare 101 Introduction about Medicare and its Benefits\, and be able to ask questions directly with our Medicare Certified Advocate!<br />\n<br />\nMedicare 101 Educational Introduction Presented by: Ms. Jean Francois - AGA Elderly Medicare Certified Independent Insurance Advocate<br />\n<br />\nSpace is limited! Please RSVP - contact Brookdale&nbsp\;Valley View Front Desk at (714) 898-3524
LOCATION:Brookdale Valley View Activities Room 5900 Chapman Avenue Garden Grove\, CA 92845
UID:e.1315.6217
SEQUENCE:3
DTSTAMP:20260419T205249Z
URL:http://business.gardengrovechamber.com/events/details/medicare-101-educational-introducton-6217
END:VEVENT

END:VCALENDAR
