BEGIN:VCALENDAR
VERSION:2.0
PRODID:-//ChamberMaster//Event Calendar 2.0//EN
METHOD:PUBLISH
X-PUBLISHED-TTL:P3D
REFRESH-INTERVAL:P3D
CALSCALE:GREGORIAN
BEGIN:VEVENT
DTSTART:20190607T013000Z
DTEND:20190607T023000Z
X-MICROSOFT-CDO-ALLDAYEVENT:FALSE
SUMMARY:Meet on Main with Police Chief Tom DaRe
DESCRIPTION:Meet our new Police Chief Tom DaRe in the beautiful community room at Wesley Village! (Located at 10861 Acacia\, just off Main Street in Garden Grove).\n\n\n\nIf you RSVP to maureen.ggna@gmailcom we'll be sure to have enough seating. \n\n\n\nMayor Pro Tem Stephanie Klopfenstein will be interviewing our Chief. You'll enjoy this.
X-ALT-DESC;FMTTYPE=text/html:<span style="font-family:arial\;"><span style="color: rgb(28\, 30\, 33)\;">Meet our new Police <strong>Chief Tom DaRe </strong>in the beautiful community room at Wesley Village! (Located at 10861 Acacia\, just off Main Street in Garden Grove).</span><br style="color: rgb(28\, 30\, 33)\; font-family: Helvetica\, Arial\, sans-serif\; font-size: 14px\;" />\n<br style="color: rgb(28\, 30\, 33)\; font-family: Helvetica\, Arial\, sans-serif\; font-size: 14px\;" />\n<span style="color: rgb(28\, 30\, 33)\;">If you RSVP to maureen.ggna@gmailcom we&#39\;ll be sure to have enough seating.&nbsp\;</span><br style="color: rgb(28\, 30\, 33)\; font-family: Helvetica\, Arial\, sans-serif\; font-size: 14px\;" />\n<br style="color: rgb(28\, 30\, 33)\; font-family: Helvetica\, Arial\, sans-serif\; font-size: 14px\;" />\n<span style="color: rgb(28\, 30\, 33)\;">Mayor Pro Tem Stephanie Klopfenstein will be interviewing our Chief. You&#39\;ll enjoy this.</span></span>
LOCATION:Wesley Village 10861 Acacia Ave Garden Grove\, CA 92840
UID:e.1315.6622
SEQUENCE:3
DTSTAMP:20260420T102042Z
URL:http://business.gardengrovechamber.com/events/details/meet-on-main-with-police-chief-tom-dare-6622
END:VEVENT

END:VCALENDAR
