BEGIN:VCALENDAR
VERSION:2.0
PRODID:-//ChamberMaster//Event Calendar 2.0//EN
METHOD:PUBLISH
X-PUBLISHED-TTL:P3D
REFRESH-INTERVAL:P3D
CALSCALE:GREGORIAN
BEGIN:VEVENT
DTSTART:20121116T190000Z
DTEND:20121117T020000Z
X-MICROSOFT-CDO-ALLDAYEVENT:FALSE
SUMMARY:Member Event: "Baskets & Bargins" Holiday Boutique
DESCRIPTION:The Garden Grove Assistance League Present:\n\n"Baskets & Bargains" Holiday Boutique\n\nThis is a fun shopping event with all items priced to sell. There will be Baskets of Goodies\, a Clothes Boutique\, China and Collectibles\, Linens\, House wares\, Toys and books\, Gift Certificates\, Baked Goods and Christmas items Galore. There will also be a Silent Auction which will include a George Brett baseball\, a Booney and Bourke purse\, vintage jewelry and more. The sale will continue until Christmas.\n\n\n\nPlease help the Assistance League continue to provide clothing\, books\, dental services\, eye glasses\, scholarships and more for the needy students of the Garden Grove Unified School District.\n\n\n\nFor Information\, call Katie Radomski 714 544-6435.\n\n\n\nNon-profit #95-1970950
X-ALT-DESC;FMTTYPE=text/html:The Garden Grove Assistance League Present:<br />\n&quot\;Baskets &amp\; Bargains&quot\; Holiday Boutique<br />\nThis is a fun shopping event with all items priced to sell. There will be Baskets of Goodies\, a Clothes Boutique\, China and Collectibles\, Linens\, House wares\, Toys and books\, Gift Certificates\, Baked Goods and Christmas items Galore. There will also be a Silent Auction which will include a George Brett baseball\, a Booney and Bourke purse\, vintage jewelry and more. <strong>The sale will continue until Christmas.</strong><br />\n<br />\nPlease help the Assistance League continue to provide clothing\, books\, dental services\, eye glasses\, scholarships and more for the needy students of the Garden Grove Unified School District.<br />\n<br />\nFor Information\, call Katie Radomski 714 544-6435.<br />\n<br />\nNon-profit #95-1970950
LOCATION:In the Chapter Room at the Assistance League 10932 Trask Ave\, Garden Grove\, CA 92843
UID:e.1315.857
SEQUENCE:3
DTSTAMP:20260425T221930Z
URL:http://business.gardengrovechamber.com/events/details/member-event-baskets-bargins-holiday-boutique-11-16-2012-857
END:VEVENT

END:VCALENDAR
