BEGIN:VCALENDAR
VERSION:2.0
PRODID:-//ChamberMaster//Event Calendar 2.0//EN
METHOD:PUBLISH
X-PUBLISHED-TTL:P3D
REFRESH-INTERVAL:P3D
CALSCALE:GREGORIAN
BEGIN:VEVENT
DTSTART:20121006T140000Z
DTEND:20121006T190000Z
X-MICROSOFT-CDO-ALLDAYEVENT:FALSE
SUMMARY:Member Event: Crime Survivors Survive & Thrive Run / Walk Health & Safety Expo
DESCRIPTION:Crime Survivors vision is for victims of crime to recover from their experience mentally\, physically\, emotionally\, and financially by receiving the respect\, support\, and protection from law enforcement\, the judicial system\, and the community.\n\n\n\nMoney raised from the Annual Crime Survivors 5k Run / Walk -- Health & Safety Expo will benefit MANY Crime Survivors\, Inc. programs throughout Orange County and Southern California.\n\n\n\nHundreds of vendors provide free food\, beverages\, a pancake breakfast\, product samples\, and showcase their services. The public can meet with police officers and special law enforcement teams and tour their mobile units.\n\n\n\n**Live Band*Goody Bags*Shirts*Medals*Free Food & Drinks
X-ALT-DESC;FMTTYPE=text/html:<span style="text-align: left\; background-color: rgb(239\,239\,239)\; font-family: 'gill sans mt'\, arial\, helvetica\, sans-serif\; color: rgb(51\,51\,51)\; font-size: 13px">Crime Survivors vision is for victims of crime to recover from their experience mentally\, physically\, emotionally\, and financially by receiving the respect\, support\, and protection from law enforcement\, the judicial system\, and the community.</span><br style="text-align: left\; background-color: rgb(239\,239\,239)\; font-family: 'gill sans mt'\, arial\, helvetica\, sans-serif\; color: rgb(51\,51\,51)\; font-size: 13px" />\n<br style="text-align: left\; background-color: rgb(239\,239\,239)\; font-family: 'gill sans mt'\, arial\, helvetica\, sans-serif\; color: rgb(51\,51\,51)\; font-size: 13px" />\n<span style="text-align: left\; background-color: rgb(239\,239\,239)\; font-family: 'gill sans mt'\, arial\, helvetica\, sans-serif\; color: rgb(51\,51\,51)\; font-size: 13px">Money raised from the Annual Crime Survivors 5k Run / Walk -- Health &amp\; Safety Expo will benefit MANY Crime Survivors\, Inc. programs throughout Orange County and Southern California.</span><br style="text-align: left\; background-color: rgb(239\,239\,239)\; font-family: 'gill sans mt'\, arial\, helvetica\, sans-serif\; color: rgb(51\,51\,51)\; font-size: 13px" />\n<br style="text-align: left\; background-color: rgb(239\,239\,239)\; font-family: 'gill sans mt'\, arial\, helvetica\, sans-serif\; color: rgb(51\,51\,51)\; font-size: 13px" />\n<span style="text-align: left\; background-color: rgb(239\,239\,239)\; font-family: 'gill sans mt'\, arial\, helvetica\, sans-serif\; color: rgb(51\,51\,51)\; font-size: 13px">Hundreds of vendors provide free food\, beverages\, a pancake breakfast\, product samples\, and showcase their services. The public can meet with police officers and special law enforcement teams and tour their mobile units.</span><br style="text-align: left\; background-color: rgb(239\,239\,239)\; font-family: 'gill sans mt'\, arial\, helvetica\, sans-serif\; color: rgb(51\,51\,51)\; font-size: 13px" />\n<br style="text-align: left\; background-color: rgb(239\,239\,239)\; font-family: 'gill sans mt'\, arial\, helvetica\, sans-serif\; color: rgb(51\,51\,51)\; font-size: 13px" />\n<span style="text-align: left\; background-color: rgb(239\,239\,239)\; font-family: 'gill sans mt'\, arial\, helvetica\, sans-serif\; color: rgb(51\,51\,51)\; font-size: 13px">**Live Band*Goody Bags*Shirts*Medals*Free Food &amp\; Drinks</span>
LOCATION:Orange County Sheriff Regional Training Academy 15991 Armstrong Avenue Tustin\, CA 92782
UID:e.1315.313
SEQUENCE:3
DTSTAMP:20260425T234946Z
URL:http://business.gardengrovechamber.com/events/details/member-event-crime-survivors-survive-thrive-run-walk-health-safety-expo-10-06-2012-313
END:VEVENT

END:VCALENDAR
