BEGIN:VCALENDAR
VERSION:2.0
PRODID:-//ChamberMaster//Event Calendar 2.0//EN
METHOD:PUBLISH
X-PUBLISHED-TTL:P3D
REFRESH-INTERVAL:P3D
CALSCALE:GREGORIAN
BEGIN:VEVENT
DTSTART:20130309T180000Z
DTEND:20130309T230000Z
X-MICROSOFT-CDO-ALLDAYEVENT:FALSE
SUMMARY:Member Event: Summer Opportunities Jamboree
DESCRIPTION:The Next Level Sports Complex in Garden Grove\, a new multi-use athletic facility\, will host the 2013 Summer Opportunities Jamboree\, produced by Parenting OC magazine on March 9\, 2013\, from 10 am to 3 pm.\n\n	 \n\n	The indoor event features over 70 exhibitors\, including day and overnight summer camps\, sports and fitness activities\, vacation destinations and school programs. It is Orange County's largest such family fair\, one-stop shopping for families looking to plan their summer fun\, travel and learning. \n\n	 \n\n	Attractions include Parenting OC's Cutest Kid Cover Contest\, sports and fitness demonstrations and a family fun zone. Scheduled to appear are Curious George from the PBS show\, the Minions from the film Despicable Me 2\; and TV's newest dance star Asia Monet Ray from Abby's Ultimate Dance Competition.\n\n	 \n\n	Parking is $5\, and 100 percent of that fee will be donated to benefit Empty Benches\, a nonprofit dedicated to youth sports involvement.
X-ALT-DESC;FMTTYPE=text/html:<style type="text/css">\n<!--{cke_protected}{C}%3C!%2D%2D%0A%20%2F*%20Font%20Definitions%20*%2F%0A%40font-face%0A%09%7Bfont-family%3ATimes%3B%0A%09panose-1%3A2%200%205%200%200%200%200%200%200%200%3B%0A%09mso-font-charset%3A0%3B%0A%09mso-generic-font-family%3Aauto%3B%0A%09mso-font-pitch%3Avariable%3B%0A%09mso-font-signature%3A3%200%200%200%201%200%3B%7D%0A%40font-face%0A%09%7Bfont-family%3A%22%26%2365325%3B%26%2365331%3B%20%26%2326126%3B%26%2326397%3B%22%3B%0A%09panose-1%3A0%200%200%200%200%200%200%200%200%200%3B%0A%09mso-font-charset%3A128%3B%0A%09mso-generic-font-family%3Aroman%3B%0A%09mso-font-format%3Aother%3B%0A%09mso-font-pitch%3Afixed%3B%0A%09mso-font-signature%3A1%20134676480%2016%200%20131072%200%3B%7D%0A%40font-face%0A%09%7Bfont-family%3A%22Cambria%20Math%22%3B%0A%09panose-1%3A2%204%205%203%205%204%206%203%202%204%3B%0A%09mso-font-charset%3A1%3B%0A%09mso-generic-font-family%3Aroman%3B%0A%09mso-font-format%3Aother%3B%0A%09mso-font-pitch%3Avariable%3B%0A%09mso-font-signature%3A0%200%200%200%200%200%3B%7D%0A%40font-face%0A%09%7Bfont-family%3AGeorgia%3B%0A%09panose-1%3A2%204%205%202%205%204%205%202%203%203%3B%0A%09mso-font-charset%3A0%3B%0A%09mso-generic-font-family%3Aauto%3B%0A%09mso-font-pitch%3Avariable%3B%0A%09mso-font-signature%3A3%200%200%200%201%200%3B%7D%0A%20%2F*%20Style%20Definitions%20*%2F%0Ap.MsoNormal%2C%20li.MsoNormal%2C%20div.MsoNormal%0A%09%7Bmso-style-unhide%3Ano%3B%0A%09mso-style-qformat%3Ayes%3B%0A%09mso-style-parent%3A%22%22%3B%0A%09margin%3A0in%3B%0A%09margin-bottom%3A.0001pt%3B%0A%09mso-pagination%3Awidow-orphan%3B%0A%09font-size%3A12.0pt%3B%0A%09font-family%3A%22Times%20New%20Roman%22%3B%0A%09mso-fareast-font-family%3A%22%26%2365325%3B%26%2365331%3B%20%26%2326126%3B%26%2326397%3B%22%3B%0A%09mso-fareast-theme-font%3Aminor-fareast%3B%0A%09mso-bidi-font-family%3A%22Times%20New%20Roman%22%3B%7D%0Ap%0A%09%7Bmso-style-priority%3A99%3B%0A%09mso-margin-top-alt%3Aauto%3B%0A%09margin-right%3A0in%3B%0A%09mso-margin-bottom-alt%3Aauto%3B%0A%09margin-left%3A0in%3B%0A%09mso-pagination%3Awidow-orphan%3B%0A%09font-size%3A10.0pt%3B%0A%09font-family%3ATimes%3B%0A%09mso-fareast-font-family%3A%22%26%2365325%3B%26%2365331%3B%20%26%2326126%3B%26%2326397%3B%22%3B%0A%09mso-fareast-theme-font%3Aminor-fareast%3B%0A%09mso-bidi-font-family%3A%22Times%20New%20Roman%22%3B%7D%0A.MsoChpDefault%0A%09%7Bmso-style-type%3Aexport-only%3B%0A%09mso-default-props%3Ayes%3B%0A%09font-size%3A10.0pt%3B%0A%09mso-ansi-font-size%3A10.0pt%3B%0A%09mso-bidi-font-size%3A10.0pt%3B%0A%09mso-fareast-font-family%3A%22%26%2365325%3B%26%2365331%3B%20%26%2326126%3B%26%2326397%3B%22%3B%0A%09mso-fareast-theme-font%3Aminor-fareast%3B%0A%09mso-fareast-language%3AJA%3B%7D%0A%40page%20WordSection1%0A%09%7Bsize%3A8.5in%2011.0in%3B%0A%09margin%3A1.0in%201.25in%201.0in%201.25in%3B%0A%09mso-header-margin%3A.5in%3B%0A%09mso-footer-margin%3A.5in%3B%0A%09mso-paper-source%3A0%3B%7D%0Adiv.WordSection1%0A%09%7Bpage%3AWordSection1%3B%7D%0A%2D%2D%3E--></style>\n<p style="margin:0in\;margin-bottom:.0001pt">\n	<span style="font-size:12.0pt\;\nmso-bidi-font-size:8.0pt\;font-family:Georgia">The Next Level Sports Complex in Garden Grove\, a new multi-use athletic facility\, will host the 2013 Summer Opportunities Jamboree\, produced by Parenting OC magazine on March 9\, 2013\, from 10 am to 3 pm.</span></p>\n<p style="margin:0in\;margin-bottom:.0001pt">\n	<span style="font-size:12.0pt\;\nmso-bidi-font-size:8.0pt\;font-family:Georgia\;color:#999999">&nbsp\;</span></p>\n<p style="margin:0in\;margin-bottom:.0001pt">\n	<span style="font-size:12.0pt\;\nmso-bidi-font-size:8.0pt\;font-family:Georgia">The indoor event features over 70 exhibitors\, including day and overnight summer camps\, sports and fitness activities\, vacation destinations and school programs. It is Orange County&rsquo\;s largest such family fair\, one-stop shopping for families looking to plan their summer fun\, travel and learning. </span></p>\n<p style="margin:0in\;margin-bottom:.0001pt">\n	<span style="font-size:12.0pt\;\nmso-bidi-font-size:8.0pt\;font-family:Georgia">&nbsp\;</span></p>\n<p style="margin:0in\;margin-bottom:.0001pt">\n	<span style="font-size:12.0pt\;\nmso-bidi-font-size:8.0pt\;font-family:Georgia">Attractions include Parenting OC&rsquo\;s Cutest Kid Cover Contest\, sports and fitness demonstrations and a family fun zone. Scheduled to appear are Curious George from the PBS show\, the Minions from the film Despicable Me 2\; and TV&rsquo\;s newest dance star Asia Monet Ray from <em><span style="font-family:Georgia">Abby&rsquo\;s Ultimate Dance Competition</span></em>.</span></p>\n<p style="margin:0in\;margin-bottom:.0001pt">\n	<span style="font-size:12.0pt\;\nmso-bidi-font-size:8.0pt\;font-family:Georgia\;color:#999999">&nbsp\;</span></p>\n<p style="margin:0in\;margin-bottom:.0001pt">\n	<span style="font-size:12.0pt\;\nmso-bidi-font-size:8.0pt\;font-family:Georgia">Parking is $5\, and 100 percent of that fee will be donated to benefit Empty Benches\, a nonprofit dedicated to youth sports involvement.</span></p>\n
LOCATION:The Next Level Sports Complex 12821 Knott St Garden Grove\, CA 92841
UID:e.1315.1167
SEQUENCE:3
DTSTAMP:20260425T154147Z
URL:http://business.gardengrovechamber.com/events/details/member-event-summer-opportunities-jamboree-03-09-2013-1167
END:VEVENT

END:VCALENDAR
