BEGIN:VCALENDAR
VERSION:2.0
PRODID:-//ChamberMaster//Event Calendar 2.0//EN
METHOD:PUBLISH
X-PUBLISHED-TTL:P3D
REFRESH-INTERVAL:P3D
CALSCALE:GREGORIAN
BEGIN:VEVENT
DTSTART:20130202T193000Z
DTEND:20130202T230000Z
X-MICROSOFT-CDO-ALLDAYEVENT:FALSE
SUMMARY:Member Event: Valentine's Tea
DESCRIPTION:Assistance League of Garden Grove \n\n                    Presents a \n\n                Valentine's Tea\n\n\n\nA Harpist will provide wonderful live music
X-ALT-DESC;FMTTYPE=text/html:Assistance League of Garden Grove&nbsp\;<br />\n&nbsp\;&nbsp\;&nbsp\;&nbsp\;&nbsp\;&nbsp\;&nbsp\;&nbsp\;&nbsp\;&nbsp\;&nbsp\;&nbsp\;&nbsp\;&nbsp\;&nbsp\;&nbsp\;&nbsp\;&nbsp\;&nbsp\;&nbsp\;Presents a&nbsp\;<br />\n&nbsp\;&nbsp\;&nbsp\;&nbsp\;&nbsp\;&nbsp\;&nbsp\;&nbsp\;&nbsp\;&nbsp\;&nbsp\;&nbsp\;&nbsp\;&nbsp\;&nbsp\;&nbsp\;Valentine&#39\;s Tea<br />\n<br />\nA Harpist will provide wonderful live music
LOCATION:Garden Grove Assistance League 10932 Trask Ave. Garden Grove\, CA 92843
UID:e.1315.872
SEQUENCE:3
DTSTAMP:20260425T173324Z
URL:http://business.gardengrovechamber.com/events/details/member-event-valentine-s-tea-02-02-2013-872
END:VEVENT

END:VCALENDAR
