BEGIN:VCALENDAR
VERSION:2.0
PRODID:-//ChamberMaster//Event Calendar 2.0//EN
METHOD:PUBLISH
X-PUBLISHED-TTL:P3D
REFRESH-INTERVAL:P3D
CALSCALE:GREGORIAN
BEGIN:VEVENT
DTSTART:20130528T160000Z
DTEND:20130528T170000Z
X-MICROSOFT-CDO-ALLDAYEVENT:FALSE
SUMMARY:Membership Committee Meeting
DESCRIPTION:The Membership Committee is charged with overseeing the membership of the Chamber\, providing valuable updates to members on networking events\, ribbon cutting ceremonies and grand openings. The Membership Committee is a volunteer committee made up of Board of Directors of the Chamber and volunteer members of the Chamber.
X-ALT-DESC;FMTTYPE=text/html:<span style="font: 12px/normal tahoma\, geneva\, sans-serif\; text-align: left\; color: rgb(0\, 0\, 0)\; text-transform: none\; text-indent: 0px\; letter-spacing: normal\; word-spacing: 0px\; float: none\; display: inline !important\; white-space: normal\; orphans: 2\; widows: 2\; font-size-adjust: none\; font-stretch: normal\; background-color: rgb(255\, 255\, 255)\; -webkit-text-size-adjust: auto\; -webkit-text-stroke-width: 0px\;">The Membership Committee is charged with overseeing the membership of the Chamber\, providing valuable updates to members on networking events\, ribbon cutting ceremonies and grand openings. The Membership Committee is a volunteer committee made up of Board of Directors of the Chamber and volunteer members of the Chamber.</span>
LOCATION:Garden Grove Chamber Office 12866 Main St. #102 Garden Grove\, CA 92870
UID:e.1315.996
SEQUENCE:3
DTSTAMP:20260425T120857Z
URL:http://business.gardengrovechamber.com/events/details/membership-committee-meeting-05-28-2013-996
END:VEVENT

END:VCALENDAR
