BEGIN:VCALENDAR
VERSION:2.0
PRODID:-//ChamberMaster//Event Calendar 2.0//EN
METHOD:PUBLISH
X-PUBLISHED-TTL:P3D
REFRESH-INTERVAL:P3D
CALSCALE:GREGORIAN
BEGIN:VEVENT
DTSTART:20120813T220000Z
DTEND:20120813T230000Z
X-MICROSOFT-CDO-ALLDAYEVENT:FALSE
SUMMARY:Membership Committee Meeting
DESCRIPTION:The Membership Committee is charged with overseeing the membership of the Chamber\, providing valuable updates to members on networking events\, ribbon cutting ceremonies and grand openings. The Membership Committee is a volunteer committee made up of Board of Directors of the Chamber and volunteer members of the Chamber.
X-ALT-DESC;FMTTYPE=text/html:The Membership Committee is charged with overseeing the membership of the Chamber\, providing valuable updates to members on networking events\, ribbon cutting ceremonies and grand openings. The Membership Committee is a volunteer committee made up of Board of Directors of the Chamber and volunteer members of the Chamber.
LOCATION:Garden Grove Chamber Office 12866 Main St. #102 Garden Grove\, CA 92870
UID:e.1315.718
SEQUENCE:3
DTSTAMP:20260426T025228Z
URL:http://business.gardengrovechamber.com/events/details/membership-committee-meeting-08-13-2012-718
END:VEVENT

END:VCALENDAR
