BEGIN:VCALENDAR
VERSION:2.0
PRODID:-//ChamberMaster//Event Calendar 2.0//EN
METHOD:PUBLISH
X-PUBLISHED-TTL:P3D
REFRESH-INTERVAL:P3D
CALSCALE:GREGORIAN
BEGIN:VEVENT
DTSTART:20231201T190000Z
DTEND:20231201T200000Z
X-MICROSOFT-CDO-ALLDAYEVENT:FALSE
SUMMARY:Membership Committee Meeting
DESCRIPTION:Garden Grove Chamber of Commerce Membership Committee Meeting. This committee oversees the Ambassador Committee and develops and implements programs to retain members\, develop new members and increase membership participation. Evaluates and research dues structure and membership categories.
X-ALT-DESC;FMTTYPE=text/html:<span style="font-size:14px\;"><strong>Garden Grove Chamber of Commerce Membership Committee Meeting</strong>.&nbsp\;<span style="color: rgb(0\, 0\, 0)\; font-family: Roboto\, Helvetica\, Arial\, Verdana\, sans-serif\;">This committee oversees the Ambassador Committee and develops and implements programs to retain members\, develop new members and increase membership participation. Evaluates and research dues structure and membership categories.</span></span>
LOCATION:Hybrid
UID:e.1315.8514
SEQUENCE:3
DTSTAMP:20260420T102732Z
URL:http://business.gardengrovechamber.com/events/details/membership-committee-meeting-12-01-2023-8514
END:VEVENT

END:VCALENDAR
