BEGIN:VCALENDAR
VERSION:2.0
PRODID:-//ChamberMaster//Event Calendar 2.0//EN
METHOD:PUBLISH
X-PUBLISHED-TTL:P3D
REFRESH-INTERVAL:P3D
CALSCALE:GREGORIAN
BEGIN:VEVENT
DTSTART:20161213T200000Z
DTEND:20161213T210000Z
X-MICROSOFT-CDO-ALLDAYEVENT:FALSE
SUMMARY:Membership Committee Meeting
DESCRIPTION:Garden Grove Chamber Membership Committee Meeting
X-ALT-DESC;FMTTYPE=text/html:Garden Grove Chamber Membership Committee Meeting
LOCATION:Meets at different locations each month
UID:e.1315.6047
SEQUENCE:3
DTSTAMP:20260420T103240Z
URL:http://business.gardengrovechamber.com/events/details/membership-committee-meeting-6047
END:VEVENT

END:VCALENDAR
