BEGIN:VCALENDAR
VERSION:2.0
PRODID:-//ChamberMaster//Event Calendar 2.0//EN
METHOD:PUBLISH
X-PUBLISHED-TTL:P3D
REFRESH-INTERVAL:P3D
CALSCALE:GREGORIAN
BEGIN:VEVENT
DTSTART:20171112T020000Z
DTEND:20171112T070000Z
X-MICROSOFT-CDO-ALLDAYEVENT:FALSE
SUMMARY:Miss Garden Grove 2018 Competition
DESCRIPTION:This event is happening alongside Miss Garden Grove's Teen 2018\n\nWatch as see as some of the most talented\, intelligent\, and driven young women compete for the title of Miss Garden Grove 2018. This is an official preliminary competition for the Miss America Organization & Miss California Organization
X-ALT-DESC;FMTTYPE=text/html:<span style="color: rgb(75\, 79\, 86)\; font-family: Helvetica\, Arial\, sans-serif\; font-size: 14px\;">This event is happening alongside&nbsp\;</span><a data-hovercard="/ajax/hovercard/event.php?id=517737661913652&amp\;extragetparams=%7B%22ref%22%3A51%2C%22source%22%3A1%2C%22action_history%22%3A%22%5B%7B%5C%22surface%5C%22%3A%5C%22permalink%5C%22%2C%5C%22mechanism%5C%22%3A%5C%22surface%5C%22%2C%5C%22extra_data%5C%22%3A%5B%5D%7D%5D%22%2C%22has_source%22%3Atrue%2C%22directed_target_id%22%3A117880285549103%7D" data-hovercard-prefer-more-content-show="1" href="https://www.facebook.com/events/517737661913652/?acontext=%7B%22ref%22%3A51%2C%22source%22%3A1%2C%22action_history%22%3A%22%5B%7B%5C%22surface%5C%22%3A%5C%22permalink%5C%22%2C%5C%22mechanism%5C%22%3A%5C%22surface%5C%22%2C%5C%22extra_data%5C%22%3A%5B%5D%7D%5D%22%2C%22has_source%22%3Atrue%7D&amp\;ref=51&amp\;source=1&amp\;action_history=%5B%7B%22surface%22%3A%22permalink%22%2C%22mechanism%22%3A%22surface%22%2C%22extra_data%22%3A%5B%5D%7D%5D&amp\;has_source=1" style="color: rgb(54\, 88\, 153)\; cursor: pointer\; text-decoration-line: none\; font-family: Helvetica\, Arial\, sans-serif\; font-size: 14px\;">Miss Garden Grove&#39\;s Teen 2018</a><br style="color: rgb(75\, 79\, 86)\; font-family: Helvetica\, Arial\, sans-serif\; font-size: 14px\;" />\n<span style="color: rgb(75\, 79\, 86)\; font-family: Helvetica\, Arial\, sans-serif\; font-size: 14px\;">Watch as see as some of the most talented\, intelligent\, and driven young women compete for the title of Miss Garden Grove 2018. This is an official preliminary competition for the&nbsp\;</span><a data-hovercard="/ajax/hovercard/page.php?id=207607912572&amp\;extragetparams=%7B%22directed_target_id%22%3A117880285549103%7D" data-hovercard-prefer-more-content-show="1" href="https://www.facebook.com/missamerica/" style="color: rgb(54\, 88\, 153)\; cursor: pointer\; text-decoration-line: none\; font-family: Helvetica\, Arial\, sans-serif\; font-size: 14px\;">Miss America Organization</a><span style="color: rgb(75\, 79\, 86)\; font-family: Helvetica\, Arial\, sans-serif\; font-size: 14px\;">&nbsp\;&amp\;&nbsp\;</span><a data-hovercard="/ajax/hovercard/page.php?id=114756238569015&amp\;extragetparams=%7B%22directed_target_id%22%3A117880285549103%7D" data-hovercard-prefer-more-content-show="1" href="https://www.facebook.com/MissCAOrg/" style="color: rgb(54\, 88\, 153)\; cursor: pointer\; text-decoration-line: none\; font-family: Helvetica\, Arial\, sans-serif\; font-size: 14px\;">Miss California Organization</a>
LOCATION:Patton Elementary School 6861 Santa Rita Ave Garden Grove\, CA
UID:e.1315.6245
SEQUENCE:3
DTSTAMP:20260419T180529Z
URL:http://business.gardengrovechamber.com/events/details/miss-garden-grove-2018-competition-6245
END:VEVENT

END:VCALENDAR
