BEGIN:VCALENDAR
VERSION:2.0
PRODID:-//ChamberMaster//Event Calendar 2.0//EN
METHOD:PUBLISH
X-PUBLISHED-TTL:P3D
REFRESH-INTERVAL:P3D
CALSCALE:GREGORIAN
BEGIN:VEVENT
DTSTART:20150924T003000Z
DTEND:20150924T023000Z
X-MICROSOFT-CDO-ALLDAYEVENT:FALSE
SUMMARY:Miss Garden Grove Sponsor Mixer
DESCRIPTION:Come for some delicious food & mingle with our 2016 Miss Garden Grove & Miss Garden Grove's Outstanding Teen Contestants!
X-ALT-DESC;FMTTYPE=text/html:Come for some delicious food &amp\; mingle with our 2016 Miss Garden Grove &amp\; Miss Garden Grove&#39\;s Outstanding Teen Contestants!&nbsp\;&nbsp\;&nbsp\;&nbsp\;
LOCATION:Kiwanisland 9840 Larson Ave\, Garden Grove\, CA 92844
UID:e.1315.4558
SEQUENCE:3
DTSTAMP:20260423T162518Z
URL:http://business.gardengrovechamber.com/events/details/miss-garden-grove-sponsor-mixer-09-23-2015-4558
END:VEVENT

END:VCALENDAR
