BEGIN:VCALENDAR
VERSION:2.0
PRODID:-//ChamberMaster//Event Calendar 2.0//EN
METHOD:PUBLISH
X-PUBLISHED-TTL:P3D
REFRESH-INTERVAL:P3D
CALSCALE:GREGORIAN
BEGIN:VEVENT
DTSTART:20160929T003000Z
DTEND:20160929T023000Z
X-MICROSOFT-CDO-ALLDAYEVENT:FALSE
SUMMARY:Miss Garden Grove Sponsor Mixer
DESCRIPTION:Come for some delicious food & mingle with our 2017 Miss Garden Grove & Miss Garden Grove's Outstanding Teen Contestants!
X-ALT-DESC;FMTTYPE=text/html:Come for some delicious food &amp\; mingle with our 2017 Miss Garden Grove &amp\; Miss Garden Grove&#39\;s Outstanding Teen Contestants!
LOCATION:Kiwanisland 9840 Larson Ave Garden Grove\, CA 92844
UID:e.1315.5999
SEQUENCE:3
DTSTAMP:20260420T152738Z
URL:http://business.gardengrovechamber.com/events/details/miss-garden-grove-sponsor-mixer-5999
END:VEVENT

END:VCALENDAR
