BEGIN:VCALENDAR
VERSION:2.0
PRODID:-//ChamberMaster//Event Calendar 2.0//EN
METHOD:PUBLISH
X-PUBLISHED-TTL:P3D
REFRESH-INTERVAL:P3D
CALSCALE:GREGORIAN
BEGIN:VEVENT
DTSTART:20140313T000000Z
DTEND:20140313T013000Z
X-MICROSOFT-CDO-ALLDAYEVENT:FALSE
SUMMARY:Mixer at Earth Friendly Products
DESCRIPTION:Join us at this great networking opportunity at our Chamber Mixer this month.  Our Chamber Member host will be Earth Friendly Products.  Enjoy light refreshments and you will have the opportunity to tour this amazing plant.  Be sure to bring lots of business cards to pass out.\n\n\n\nNOTE:  Must wear closed toed shoes!
X-ALT-DESC;FMTTYPE=text/html:Join us at this great networking opportunity at our Chamber Mixer this month. &nbsp\;Our Chamber Member host will be Earth Friendly Products. &nbsp\;Enjoy light refreshments and you will have the opportunity to tour this amazing plant. &nbsp\;Be sure to bring lots of business cards to pass out.<br />\n<br />\nNOTE: &nbsp\;Must wear closed toed shoes!
LOCATION:Earth Friendly Products 12601 Monarch Street Garden Grove\, CA 92841
UID:e.1315.1496
SEQUENCE:3
DTSTAMP:20260424T191011Z
URL:http://business.gardengrovechamber.com/events/details/mixer-at-earth-friendly-products-03-12-2014-1496
END:VEVENT

END:VCALENDAR
