BEGIN:VCALENDAR
VERSION:2.0
PRODID:-//ChamberMaster//Event Calendar 2.0//EN
METHOD:PUBLISH
X-PUBLISHED-TTL:P3D
REFRESH-INTERVAL:P3D
CALSCALE:GREGORIAN
BEGIN:VEVENT
DTSTART:20160818T003000Z
DTEND:20160818T020000Z
X-MICROSOFT-CDO-ALLDAYEVENT:FALSE
SUMMARY:Monthly Chamber Mixer
DESCRIPTION:Join us for our Monthly Chamber Mixer at the Strawberry Bowl! Refreshments will be provided. Be sure to bring your business cards.\n\n\n\nPromote your business even further by bringing something to be raffled off.  If you are unable to attend\, you can bring your raffle item with your business card attached to the Chamber Office.
X-ALT-DESC;FMTTYPE=text/html:Join us for our Monthly Chamber Mixer at the Strawberry Bowl! Refreshments will be provided. Be sure to bring your business cards.<br />\n<br />\n<strong style="line-height: 20.7999992370605px\;"><em>Promote your business even further by bringing something to be raffled off. &nbsp\;If you are unable to attend\, you can bring your raffle item with your business card attached to the Chamber Office.</em></strong>
LOCATION:The Strawberry Bowl 12762 Main Street Garden Grove\, CA 92846
UID:e.1315.5549
SEQUENCE:3
DTSTAMP:20260420T165004Z
URL:http://business.gardengrovechamber.com/events/details/monthly-chamber-mixer-08-17-2016-5549
END:VEVENT

END:VCALENDAR
