BEGIN:VCALENDAR
VERSION:2.0
PRODID:-//ChamberMaster//Event Calendar 2.0//EN
METHOD:PUBLISH
X-PUBLISHED-TTL:P3D
REFRESH-INTERVAL:P3D
CALSCALE:GREGORIAN
BEGIN:VEVENT
DTSTART:20170921T003000Z
DTEND:20170921T020000Z
X-MICROSOFT-CDO-ALLDAYEVENT:FALSE
SUMMARY:Monthly Chamber Mixer at Ace High Casino Rentals
DESCRIPTION:Please join us in welcoming Ace High Casino Rentals to Garden Grove with a Ribbon Cutting Ceremony. Our Monthly Mixer will also be taking place so please be sure to bring plenty of business cards and a door prize! Light refreshments will be provided. \n\n\n\nPromote your business even further by bringing something to be raffled off.  If you are unable to attend\, you can bring your raffle item with your business card attached to the Chamber Office.
X-ALT-DESC;FMTTYPE=text/html:Please join us in welcoming Ace High Casino Rentals to Garden Grove with a Ribbon Cutting Ceremony. Our Monthly Mixer will also be taking place so please be sure to bring plenty of business cards and a door prize! Light refreshments will be provided.&nbsp\;<br />\n<br />\n<strong style="line-height: 20.7999992370605px\;"><em>Promote your business even further by bringing something to be raffled off. &nbsp\;If you are unable to attend\, you can bring your raffle item with your business card attached to the Chamber Office.</em></strong>
LOCATION:Ace High Casino Rentals 12872 Valley View Street\, Suite #1 Garden Grove\, CA 92845
UID:e.1315.5562
SEQUENCE:3
DTSTAMP:20260419T222520Z
URL:http://business.gardengrovechamber.com/events/details/monthly-chamber-mixer-at-ace-high-casino-rentals-5562
END:VEVENT

END:VCALENDAR
