BEGIN:VCALENDAR
VERSION:2.0
PRODID:-//ChamberMaster//Event Calendar 2.0//EN
METHOD:PUBLISH
X-PUBLISHED-TTL:P3D
REFRESH-INTERVAL:P3D
CALSCALE:GREGORIAN
BEGIN:VEVENT
DTSTART:20171116T013000Z
DTEND:20171116T030000Z
X-MICROSOFT-CDO-ALLDAYEVENT:FALSE
SUMMARY:Monthly Chamber Mixer at Jay's Catering
DESCRIPTION:Join us for our Monthly Chamber Mixer. We invite you to celebrate Jay's Catering's 50 years in business by experiencing a taste of Jay's:\n\n  \nSteamed Buns with Pork\n\nPoke Station\n\nCreme Brulee Kouign Amann\n\nSoft Bar\n\n \nPromote your business even further by bringing something to be raffled off.  If you are unable to attend\, you can bring your raffle item with your business card attached to the Chamber Office.
X-ALT-DESC;FMTTYPE=text/html:Join us for our Monthly Chamber Mixer.&nbsp\;We invite you to celebrate Jay&#39\;s Catering&#39\;s 50 years in business by experiencing a taste of Jay&#39\;s:<br />\n&nbsp\;&nbsp\;\n<div style="text-align: center\;">Steamed Buns with Pork<br />\nPoke Station<br />\nCreme Brulee Kouign Amann<br />\nSoft Bar<br />\n&nbsp\;</div>\n<strong style="line-height: 20.7999992370605px\;"><em>Promote your business even further by bringing something to be raffled off. &nbsp\;If you are unable to attend\, you can bring your raffle item with your business card attached to the Chamber Office.</em></strong>
LOCATION:Jay's Catering 10581 Garden Grove Blvd. Garden Grove\, CA 92843
UID:e.1315.5564
SEQUENCE:3
DTSTAMP:20260419T175637Z
URL:http://business.gardengrovechamber.com/events/details/monthly-chamber-mixer-at-jay-s-catering-5564
END:VEVENT

END:VCALENDAR
