BEGIN:VCALENDAR
VERSION:2.0
PRODID:-//ChamberMaster//Event Calendar 2.0//EN
METHOD:PUBLISH
X-PUBLISHED-TTL:P3D
REFRESH-INTERVAL:P3D
CALSCALE:GREGORIAN
BEGIN:VEVENT
DTSTART:20170720T003000Z
DTEND:20170720T020000Z
X-MICROSOFT-CDO-ALLDAYEVENT:FALSE
SUMMARY:Monthly Chamber Mixer for July 2017
DESCRIPTION:Join us for our Monthly Chamber Mixer. Refreshments will be provided. Be sure to bring your business cards.\n\n\n\nPromote your business even further by bringing something to be raffled off.  If you are unable to attend\, you can bring your raffle item with your business card attached to the Chamber Office.
X-ALT-DESC;FMTTYPE=text/html:Join us for our Monthly Chamber Mixer.&nbsp\;Refreshments will be provided. Be sure to bring your business cards.<br />\n<br />\n<strong style="line-height: 20.7999992370605px\;"><em>Promote your business even further by bringing something to be raffled off. &nbsp\;If you are unable to attend\, you can bring your raffle item with your business card attached to the Chamber Office.</em></strong>
LOCATION:Gibo/Kodama Chairs 7100 Honold Circle Garden Grove\, CA 92841
UID:e.1315.5560
SEQUENCE:3
DTSTAMP:20260419T235422Z
URL:http://business.gardengrovechamber.com/events/details/monthly-chamber-mixer-for-july-2017-5560
END:VEVENT

END:VCALENDAR
