BEGIN:VCALENDAR
VERSION:2.0
PRODID:-//ChamberMaster//Event Calendar 2.0//EN
METHOD:PUBLISH
X-PUBLISHED-TTL:P3D
REFRESH-INTERVAL:P3D
CALSCALE:GREGORIAN
BEGIN:VEVENT
DTSTART:20150917T003000Z
DTEND:20150917T013000Z
X-MICROSOFT-CDO-ALLDAYEVENT:FALSE
SUMMARY:Monthly Mixer at Mon Ami Cafe
DESCRIPTION:Join us at our Monthly Mixer being hosted by Mon Ami Cafe. Be sure to bring lots of business cards. To promote your business even further\, bring a door prize!
X-ALT-DESC;FMTTYPE=text/html:<b><i>Join us at our Monthly Mixer being hosted by Mon Ami Cafe. Be sure to bring lots of business cards. To promote your business even further\, bring a door prize!</i></b>
LOCATION:Mon Ami Cafe 14291 Euclid Street\, D116 Garden Grove\, CA 92843
UID:e.1315.4557
SEQUENCE:3
DTSTAMP:20260423T162448Z
URL:http://business.gardengrovechamber.com/events/details/monthly-mixer-at-mon-ami-cafe-09-16-2015-4557
END:VEVENT

END:VCALENDAR
