BEGIN:VCALENDAR
VERSION:2.0
PRODID:-//ChamberMaster//Event Calendar 2.0//EN
METHOD:PUBLISH
X-PUBLISHED-TTL:P3D
REFRESH-INTERVAL:P3D
CALSCALE:GREGORIAN
BEGIN:VEVENT
DTSTART:20170216T013000Z
DTEND:20170216T030000Z
X-MICROSOFT-CDO-ALLDAYEVENT:FALSE
SUMMARY:Multi-Chamber Mixer
DESCRIPTION:Join us for our Multi-Chamber Mixer we are having with the Cypress Chamber of Commerce. Light refreshments will be served and there will be a cash bar. To further promote your business be sure to bring your business cards and a door prize!
X-ALT-DESC;FMTTYPE=text/html:Join us for our<em> <strong>Multi-Chamber Mixer we are having with the Cypress Chamber of Commerce</strong></em>. Light refreshments will be served and there will be a cash bar. To further promote your business be sure to bring your business cards and a door prize!
LOCATION:AMF Valley View Lanes 12141 Valley View Street Garden Grove\, CA 92845
UID:e.1315.5555
SEQUENCE:3
DTSTAMP:20260420T073249Z
URL:http://business.gardengrovechamber.com/events/details/multi-chamber-mixer-5555
END:VEVENT

END:VCALENDAR
