BEGIN:VCALENDAR
VERSION:2.0
PRODID:-//ChamberMaster//Event Calendar 2.0//EN
METHOD:PUBLISH
X-PUBLISHED-TTL:P3D
REFRESH-INTERVAL:P3D
CALSCALE:GREGORIAN
BEGIN:VEVENT
DTSTART:20140917T003000Z
DTEND:20140917T020000Z
X-MICROSOFT-CDO-ALLDAYEVENT:FALSE
SUMMARY:New Member Mixer at Carolina's Italian Restaurant!!!
DESCRIPTION:Join us at our New Member Mixer as we welcome new members and visit with old friends.  Mixers are one of the best networking opportunities\, don't miss this one.  \n\n\n\nTo further promote your business\, be sure to bring plenty of business cards to pass out and an opportunity prize to be raffled off at the end of the evening.
X-ALT-DESC;FMTTYPE=text/html:Join us at our <strong><em>New Member Mixer</em></strong> as we welcome new members and visit with old friends. &nbsp\;Mixers are one of the best networking opportunities\, don&#39\;t miss this one. &nbsp\;<br />\n<br />\nTo further promote your business\, be sure to bring plenty of business cards to pass out and an opportunity prize to be raffled off at the end of the evening.
LOCATION:Carolina's Italian Restaurant 12045 Chapman Avenue Garden Grove\, CA 92840
UID:e.1315.1815
SEQUENCE:3
DTSTAMP:20260424T102626Z
URL:http://business.gardengrovechamber.com/events/details/new-member-mixer-at-carolina-s-italian-restaurant-09-16-2014-1815
END:VEVENT

END:VCALENDAR
