BEGIN:VCALENDAR
VERSION:2.0
PRODID:-//ChamberMaster//Event Calendar 2.0//EN
METHOD:PUBLISH
X-PUBLISHED-TTL:P3D
REFRESH-INTERVAL:P3D
CALSCALE:GREGORIAN
BEGIN:VEVENT
DTSTART:20180328T200000Z
DTEND:20180329T000000Z
X-MICROSOFT-CDO-ALLDAYEVENT:FALSE
SUMMARY:Nonprofit Strategy 3 Pillars of Success
DESCRIPTION:This FREE seminar is for our Nonprofit members only. We have some great speakers talking about marketing\, fundraising\, and outreach. There is limited seating\, so make your reservations fast!!! Refreshments will be served.
X-ALT-DESC;FMTTYPE=text/html:This <strong>FREE</strong> seminar is for our Nonprofit members only. We have some great speakers talking about marketing\, fundraising\, and outreach. There is limited seating\, so make your reservations fast!!! Refreshments will be served.
LOCATION:OneSource Distributors 12101 Western Avenue Garden Grove\, CA 92841
UID:e.1315.6261
SEQUENCE:3
DTSTAMP:20260419T120413Z
URL:http://business.gardengrovechamber.com/events/details/nonprofit-strategy-3-pillars-of-success-6261
END:VEVENT

END:VCALENDAR
