BEGIN:VCALENDAR
VERSION:2.0
PRODID:-//ChamberMaster//Event Calendar 2.0//EN
METHOD:PUBLISH
X-PUBLISHED-TTL:P3D
REFRESH-INTERVAL:P3D
CALSCALE:GREGORIAN
BEGIN:VEVENT
DTSTART:20170630T183000Z
DTEND:20170630T220000Z
X-MICROSOFT-CDO-ALLDAYEVENT:FALSE
SUMMARY:North OC Vet Center Open House/BBQ
DESCRIPTION:You\,  your staff\, friends and veterans are all invited to our open house Friday June 30th\, 2017 from 11:30 to 3:00.\n\n\n\nCome meet the staff\, our veterans and enjoy some free BBQ.\n\n\n\nPlease help spread the word as the more the merrier.
X-ALT-DESC;FMTTYPE=text/html:<strong><span style="color:black\;">You\, &nbsp\;your staff\, friends and veterans are all invited to our open house Friday June 30<sup>th</sup>\, 2017 from 11:30 to 3:00.</span></strong><br />\n<br />\n<strong><span style="color:black\;">Come meet the staff\, our veterans and enjoy some free BBQ.<br />\n<br />\nPlease help spread the word as the more the merrier.&nbsp\;</span></strong>
LOCATION:BBQ 12952 Lampson Avenue\, Garden Grove\, CA 92840 Open House 12453 Lewis Street\, Suite 101 Garden Grove\, CA 92840
UID:e.1315.6164
SEQUENCE:3
DTSTAMP:20260420T013032Z
URL:http://business.gardengrovechamber.com/events/details/north-oc-vet-center-open-house-bbq-6164
END:VEVENT

END:VCALENDAR
