BEGIN:VCALENDAR
VERSION:2.0
PRODID:-//ChamberMaster//Event Calendar 2.0//EN
METHOD:PUBLISH
X-PUBLISHED-TTL:P3D
REFRESH-INTERVAL:P3D
CALSCALE:GREGORIAN
BEGIN:VEVENT
DTSTART:20170928T000000Z
DTEND:20170928T030000Z
X-MICROSOFT-CDO-ALLDAYEVENT:FALSE
SUMMARY:OC's 2017 Major Business Expo by RBN
DESCRIPTION:More than 125 Exhibitors and 900+ Attending!  All the Great Food You Can Eat & All the Quality Prospects You Can Meet!\n\n\n\nFor more information or to reserve your booth\, please visit www.RBNinfo.com\n\n \n\nOnly a few Exhibit Tables left. Please use this link to reserve yours now and Save $100: http://www.rbninfo.com/applications/ExpoTableSept27.asp
X-ALT-DESC;FMTTYPE=text/html:<span style="color:black\;"><span style="font-family:arial\,sans-serif\;"><span style="font-size:10pt\;">More than 125 Exhibitors and 900+ Attending!</span></span></span><span style="color:black\;"><span style="font-family:times-new-roman\;"><span style="font-size:10pt\;">&nbsp\;&nbsp\;</span></span></span><span style="color:black\;"><span style="font-family:arial\,sans-serif\;"><span style="font-size:10pt\;">All the Great Food You Can Eat &amp\; All the Quality Prospects You Can Meet!</span></span></span><br />\n<br />\n<span style="color:black\;"><span style="font-family:arial\,sans-serif\;"><span style="font-size:10pt\;">For more information or to reserve your booth\, please visit&nbsp\;<a data-saferedirecturl="https://www.google.com/url?hl=en&amp\;q=http://www.RBNinfo.com&amp\;source=gmail&amp\;ust=1503082116793000&amp\;usg=AFQjCNFLIazpWb4gx_9jAo-v9Fa0xy6qYA" href="http://www.rbninfo.com/" style="color:rgb(17\, 85\, 204)\;" target="_blank">www.RBNinfo.com</a></span></span></span><br />\n&nbsp\;<br />\n<span style="color:black\;"><span style="font-family:arial\,sans-serif\;"><span style="font-size:10pt\;">Only a few Exhibit Tables left. Please use this link to reserve yours now and Save $100:&nbsp\;<a data-saferedirecturl="https://www.google.com/url?hl=en&amp\;q=http://www.rbninfo.com/applications/ExpoTableSept27.asp&amp\;source=gmail&amp\;ust=1503082116793000&amp\;usg=AFQjCNHpk2iiKjYzJRxt0wQPoZqS9_LH7g" href="http://www.rbninfo.com/applications/ExpoTableSept27.asp" style="color:rgb(17\, 85\, 204)\;" target="_blank">http://www.rbninfo.com/<wbr />applications/ExpoTableSept27.<wbr />asp</a></span></span></span>
LOCATION:Great Wolf Lodge 12861 Harbor Blvd. Garden Grove\, CA 92840
UID:e.1315.6210
SEQUENCE:3
DTSTAMP:20260419T222400Z
URL:http://business.gardengrovechamber.com/events/details/oc-s-2017-major-business-expo-by-rbn-6210
END:VEVENT

END:VCALENDAR
