BEGIN:VCALENDAR
VERSION:2.0
PRODID:-//ChamberMaster//Event Calendar 2.0//EN
METHOD:PUBLISH
X-PUBLISHED-TTL:P3D
REFRESH-INTERVAL:P3D
CALSCALE:GREGORIAN
BEGIN:VEVENT
DTSTART:20170417T183000Z
DTEND:20170417T203000Z
X-MICROSOFT-CDO-ALLDAYEVENT:FALSE
SUMMARY:OC Tax: Conversation with Orange County Mayors
DESCRIPTION:Join us for our April Members Luncheon\, featuring a distinguished panel of Mayors throughout Orange County as we discuss local taxpayer policies and their impacts on budgets and city services. The discussion will be moderated by OCTax President and CEO\, and former Mayor of Orange\, Carolyn Cavecche.
X-ALT-DESC;FMTTYPE=text/html:<span style="font-size:14px\;"><span style="font-family:arial\;"><span style="color: rgb(35\, 35\, 35)\; text-align: center\;">Join us for our April Members Luncheon\, featuring a distinguished panel of Mayors throughout Orange County as we discuss local taxpayer policies and their impacts on budgets and city services. The discussion will be moderated by OCTax President and CEO\, and former Mayor of Orange\, Carolyn Cavecche.</span></span></span>
LOCATION:The Center Club\, Costa Mesa 650 Town Center Drive\, Garden Level\, Costa Mesa\, CA 92626
UID:e.1315.6138
SEQUENCE:3
DTSTAMP:20260420T043945Z
URL:http://business.gardengrovechamber.com/events/details/oc-tax-conversation-with-orange-county-mayors-6138
END:VEVENT

END:VCALENDAR
