BEGIN:VCALENDAR
VERSION:2.0
PRODID:-//ChamberMaster//Event Calendar 2.0//EN
METHOD:PUBLISH
X-PUBLISHED-TTL:P3D
REFRESH-INTERVAL:P3D
CALSCALE:GREGORIAN
BEGIN:VEVENT
DTSTART:20160519T180000Z
DTEND:20160519T210000Z
X-MICROSOFT-CDO-ALLDAYEVENT:FALSE
SUMMARY:OneSource Distributors Open House 5-19-2016
DESCRIPTION:Please join OneSource Distributors for their Garden Grove Open House "Cinco de Mayo Fiesta."\n\nVisit with valued suppliers as they present products and services!\n\nLunch will be provided!
X-ALT-DESC;FMTTYPE=text/html:Please join OneSource Distributors for their Garden Grove Open House &quot\;Cinco de Mayo Fiesta.&quot\;<br />\nVisit with valued suppliers as they present products and services!<br />\nLunch will be provided!
LOCATION:OneSource Distributors 12101 Western Avenue Garden Grove\, CA 92841
UID:e.1315.5393
SEQUENCE:3
DTSTAMP:20260420T214208Z
URL:http://business.gardengrovechamber.com/events/details/onesource-distributors-open-house-5-19-2016-05-19-2016-5393
END:VEVENT

END:VCALENDAR
