BEGIN:VCALENDAR
VERSION:2.0
PRODID:-//ChamberMaster//Event Calendar 2.0//EN
METHOD:PUBLISH
X-PUBLISHED-TTL:P3D
REFRESH-INTERVAL:P3D
CALSCALE:GREGORIAN
BEGIN:VEVENT
DTSTART:20160421T230000Z
DTEND:20160422T020000Z
X-MICROSOFT-CDO-ALLDAYEVENT:FALSE
SUMMARY:Open House & Ribbon Cutting for Laura's House
DESCRIPTION:Please join us in celebrating the opening of Laura's House\, Domestic Violence Advocacy Center. Light refreshments provided
X-ALT-DESC;FMTTYPE=text/html:Please join us in celebrating the opening of Laura&#39\;s House\, Domestic Violence Advocacy Center. Light refreshments provided&nbsp\;&nbsp\;&nbsp\;&nbsp\;&nbsp\;&nbsp\;&nbsp\;&nbsp\;&nbsp\;&nbsp\;&nbsp\;&nbsp\;
LOCATION:Laura's House 12377 Lewis Street Suite 204 Garden Grove\, 92840
UID:e.1315.5122
SEQUENCE:3
DTSTAMP:20260420T232236Z
URL:http://business.gardengrovechamber.com/events/details/open-house-ribbon-cutting-for-laura-s-house-04-21-2016-5122
END:VEVENT

END:VCALENDAR
