BEGIN:VCALENDAR
VERSION:2.0
PRODID:-//ChamberMaster//Event Calendar 2.0//EN
METHOD:PUBLISH
X-PUBLISHED-TTL:P3D
REFRESH-INTERVAL:P3D
CALSCALE:GREGORIAN
BEGIN:VEVENT
DTSTART:20140910T160000Z
DTEND:20140910T230000Z
X-MICROSOFT-CDO-ALLDAYEVENT:FALSE
SUMMARY:Orange County Asian Business Expo 2014
DESCRIPTION:Networking opportunity at the 4th Annual Orange County Asian Business Expo 2014. This event will strengthen professional networks\, build stronger ties with each other's communities and help local business to expand their networks.
X-ALT-DESC;FMTTYPE=text/html:Networking opportunity at the 4th Annual Orange County Asian Business Expo 2014. This event will strengthen professional networks\, build stronger ties with each other&#39\;s communities and help local business to expand their networks.
LOCATION:Embassy Suites Anaheim South Hotel 11767 Harbor Blvd. Garden Grove\, CA 92840
UID:e.1315.2095
SEQUENCE:3
DTSTAMP:20260424T101724Z
URL:http://business.gardengrovechamber.com/events/details/orange-county-asian-business-expo-2014-09-10-2014-2095
END:VEVENT

END:VCALENDAR
