BEGIN:VCALENDAR
VERSION:2.0
PRODID:-//ChamberMaster//Event Calendar 2.0//EN
METHOD:PUBLISH
X-PUBLISHED-TTL:P3D
REFRESH-INTERVAL:P3D
CALSCALE:GREGORIAN
BEGIN:VEVENT
DTSTART:20170912T170000Z
DTEND:20170912T230000Z
X-MICROSOFT-CDO-ALLDAYEVENT:FALSE
SUMMARY:Orange County Asian Business Expo 2017
DESCRIPTION:Exciting News! The Korean American Chamber of Commerce of Orange County will host the 7th Orange County Asian Business Expo on Tuesday\, September 12\, 2017 from 10 am to 4 pm at the Great Wolf Lodge\, 12861 Harbor Boulevard\, in Garden Grove. This event has grown over the years and we anticipate 150 vendors internationally and local business owners will be participating this year. We will have an opportunity to promote businesses for economic growth\, social and professional interactions\, strengthen professional network\, showcase your business to diverse and emerging markets. It is a FREE event with FREE parking and is open to the public. Raffle prizes and giveaways are available as well.
X-ALT-DESC;FMTTYPE=text/html:Exciting News! The Korean American Chamber of Commerce of Orange County will host the 7th Orange County Asian Business Expo on Tuesday\, September 12\, 2017 from 10 am to 4 pm at the Great Wolf Lodge\, 12861 Harbor Boulevard\, in Garden Grove. This event has grown over the years and we anticipate 150 vendors internationally and local business owners will be participating this year. We will have an opportunity to promote businesses for economic growth\, social and professional interactions\, strengthen professional network\, showcase your business to diverse and emerging markets. It is a FREE event with FREE parking and is open to the public. Raffle prizes and giveaways are available as well.&nbsp\;<br />\n&nbsp\;
LOCATION:Great Wolf Lodge 12681 Harbor Blvd.\, Garden Grove\, CA 92840
UID:e.1315.6207
SEQUENCE:3
DTSTAMP:20260419T222317Z
URL:http://business.gardengrovechamber.com/events/details/orange-county-asian-business-expo-2017-6207
END:VEVENT

END:VCALENDAR
