BEGIN:VCALENDAR
VERSION:2.0
PRODID:-//ChamberMaster//Event Calendar 2.0//EN
METHOD:PUBLISH
X-PUBLISHED-TTL:P3D
REFRESH-INTERVAL:P3D
CALSCALE:GREGORIAN
BEGIN:VEVENT
DTSTART:20170714T003000Z
DTEND:20170714T020000Z
X-MICROSOFT-CDO-ALLDAYEVENT:FALSE
SUMMARY:Orangefield Child Development Center Ribbon Cutting Ceremony
DESCRIPTION:Join us for a Red Ribbon Cutting Ceremony to celebrate Orangefield Child Development Center & Learning Studio welcoming in to the Garden Grove Chamber of Commerce!\n\n\n\nFree Tacos will be served\n\n\n\nYou can RSVP with the Chamber at:\n\nstaff@gardengrovechamber.com\n\n(714) 638-7950\n\n\n\nor with Orangefield Child Development Center & Learning Studio at:\n\ninfo@orangefieldkids.com\n\n(714) 591-5111
X-ALT-DESC;FMTTYPE=text/html:Join us for a Red Ribbon Cutting Ceremony to celebrate Orangefield Child Development Center &amp\; Learning Studio welcoming in to the Garden Grove Chamber of Commerce!<br />\n<br />\nFree Tacos will be served<br />\n<br />\nYou can RSVP with the Chamber at:<br />\nstaff@gardengrovechamber.com<br />\n(714) 638-7950<br />\n<br />\nor with&nbsp\;Orangefield&nbsp\;Child Development Center &amp\; Learning&nbsp\;Studio at:<br />\ninfo@orangefieldkids.com<br />\n(714) 591-5111
LOCATION:Orangefield Child Development Center & Learning Studio 9822 Russell Avenue Garden Grove\, CA 92844
UID:e.1315.6168
SEQUENCE:3
DTSTAMP:20260420T000123Z
URL:http://business.gardengrovechamber.com/events/details/orangefield-child-development-center-ribbon-cutting-ceremony-6168
END:VEVENT

END:VCALENDAR
