BEGIN:VCALENDAR
VERSION:2.0
PRODID:-//ChamberMaster//Event Calendar 2.0//EN
METHOD:PUBLISH
X-PUBLISHED-TTL:P3D
REFRESH-INTERVAL:P3D
CALSCALE:GREGORIAN
BEGIN:VEVENT
DTSTART:20150520T010000Z
DTEND:20150520T030000Z
X-MICROSOFT-CDO-ALLDAYEVENT:FALSE
SUMMARY:Proposed Ocean Desalination
DESCRIPTION:Proposed Ocean Desalination Project in Huntington Beach\n\nLocal experts will be discussing the proposed Poseidon Desalination Plant in Huntington Beach\, CA and addressing major concerns regarding ocean desalination. Join in on the discussion and let your voice be heard!
X-ALT-DESC;FMTTYPE=text/html:Proposed Ocean Desalination&nbsp\;Project in Huntington Beach<br />\nLocal experts will be discussing the proposed Poseidon Desalination Plant in Huntington Beach\, CA and addressing major concerns regarding ocean desalination. Join in on the discussion and let your voice be heard!
LOCATION:Community Meeting Center 11300 Stanford Avenue Garden Grove\, CA 92840
UID:e.1315.2936
SEQUENCE:3
DTSTAMP:20260423T222426Z
URL:http://business.gardengrovechamber.com/events/details/proposed-ocean-desalination-05-19-2015-2936
END:VEVENT

END:VCALENDAR
