BEGIN:VCALENDAR
VERSION:2.0
PRODID:-//ChamberMaster//Event Calendar 2.0//EN
METHOD:PUBLISH
X-PUBLISHED-TTL:P3D
REFRESH-INTERVAL:P3D
CALSCALE:GREGORIAN
BEGIN:VEVENT
DTSTART:20170427T010000Z
DTEND:20170427T030000Z
X-MICROSOFT-CDO-ALLDAYEVENT:FALSE
SUMMARY:Public Schools Night & Awards Ceremony
DESCRIPTION:Join the Garden Grove Masons as they honor individual Junior High Students of the Garden Grove Unified School District who have shown perseverance\, hard work\, courage\, and tenacity when confronted by difficult challenges.
X-ALT-DESC;FMTTYPE=text/html:Join the Garden Grove Masons as they honor individual Junior High Students of the Garden Grove Unified School District who have shown perseverance\, hard work\, courage\, and tenacity when confronted by difficult&nbsp\;challenges.&nbsp\;
LOCATION:11270 Acacia Parkway Garden Grove\, CA 92840
UID:e.1315.6146
SEQUENCE:3
DTSTAMP:20260420T043750Z
URL:http://business.gardengrovechamber.com/events/details/public-schools-night-awards-ceremony-6146
END:VEVENT

END:VCALENDAR
