BEGIN:VCALENDAR
VERSION:2.0
PRODID:-//ChamberMaster//Event Calendar 2.0//EN
METHOD:PUBLISH
X-PUBLISHED-TTL:P3D
REFRESH-INTERVAL:P3D
CALSCALE:GREGORIAN
BEGIN:VEVENT
DTSTART:20170416T013000Z
DTEND:20170416T043000Z
X-MICROSOFT-CDO-ALLDAYEVENT:FALSE
SUMMARY:Queen Nation - Outdoor Concert
DESCRIPTION:Queen Nation - tribute to Queen. Open air\, outdoor concert under the stars. Come join your neighbors dancing in front of the stage with friends or by yourself. Parking is always free and beer\, wine\, snacks and soft drinks are available for purchase. Every seat is a great seat and a great time is always had by all.
X-ALT-DESC;FMTTYPE=text/html:Queen Nation - tribute to Queen. Open air\, outdoor concert under the stars. Come join your neighbors dancing in front of the stage with friends or by yourself. Parking is always free and beer\, wine\, snacks and soft drinks are available for purchase. Every seat is a great seat and a great time is always had by all.
LOCATION:12762 Main Street Garden Grove
UID:e.1315.6110
SEQUENCE:3
DTSTAMP:20260420T044204Z
URL:http://business.gardengrovechamber.com/events/details/queen-nation-outdoor-concert-6110
END:VEVENT

END:VCALENDAR
