BEGIN:VCALENDAR
VERSION:2.0
PRODID:-//ChamberMaster//Event Calendar 2.0//EN
METHOD:PUBLISH
X-PUBLISHED-TTL:P3D
REFRESH-INTERVAL:P3D
CALSCALE:GREGORIAN
BEGIN:VEVENT
DTSTART:20170209T010000Z
DTEND:20170209T040000Z
X-MICROSOFT-CDO-ALLDAYEVENT:FALSE
SUMMARY:RBN's Major 2017 Kick-off Business Expo
DESCRIPTION:Don't miss this major Orange County Business Expo that RBN is putting on at  called "OC's 2017 Kick Off Major Business Expo." There will be more than 130 exhibitors and over 900 guests attending.
X-ALT-DESC;FMTTYPE=text/html:<div>Don&#39\;t miss this major Orange County Business Expo that RBN is putting on at&nbsp\; called <strong>&quot\;OC&#39\;s 2017 Kick Off Major Business Expo.&quot\; </strong>There will be more than 130 exhibitors and over 900 guests attending.</div>\n
LOCATION:Great Wolf Lodge 12681 Harbor Blvd. Garden Grove\, CA 92840
UID:e.1315.6069
SEQUENCE:3
DTSTAMP:20260420T073321Z
URL:http://business.gardengrovechamber.com/events/details/rbn-s-major-2017-kick-off-business-expo-6069
END:VEVENT

END:VCALENDAR
