BEGIN:VCALENDAR
VERSION:2.0
PRODID:-//ChamberMaster//Event Calendar 2.0//EN
METHOD:PUBLISH
X-PUBLISHED-TTL:P3D
REFRESH-INTERVAL:P3D
CALSCALE:GREGORIAN
BEGIN:VEVENT
DTSTART:20151010T220000Z
DTEND:20151011T050000Z
X-MICROSOFT-CDO-ALLDAYEVENT:FALSE
SUMMARY:Re:Imagine Garden Grove - A Downtown Open Streets Event
DESCRIPTION:The City of Garden Grove is pleased to announce "Re:Imagine Garden Grove By Day and By Night " on Saturday\, October 10\, 2015\, from 3:00 p.m. to 10:00 p.m. The second year event invites residents and visitors to experience a car-free\, re-envisioned downtown environment celebrating the community\, diverse cultures\, and a healthy lifestyle. The City has once again partnered with Los Angeles-based Community Arts Resources (CARS)\, the producers of L.A.'s famed CicLAvia open streets event\, to produce the second annual festival.
X-ALT-DESC;FMTTYPE=text/html:<span style="font-family: 'Open Sans'\, sans-serif\; line-height: 23px\;">The City of Garden Grove is pleased to announce &ldquo\;Re:Imagine Garden Grove By Day and By Night &rdquo\; on Saturday\, October 10\, 2015\, from 3:00 p.m. to 10:00 p.m. The second year event invites residents and visitors to experience a car-free\, re-envisioned downtown environment celebrating the community\, diverse cultures\, and a healthy lifestyle. The City has once again partnered with Los Angeles-based Community Arts Resources (CARS)\, the producers of L.A.&rsquo\;s famed CicLAvia open streets event\, to produce the second annual festival.</span>
LOCATION:The eastbound side of Acacia Parkway\, between Nelson and 7th Streets\, will be "open streets" for non-motorized active transportation. Bicycling\, skateboarding\, rollerblading\, running and walking will all be welcome along the south side of the Acacia Parkway median.
UID:e.1315.4561
SEQUENCE:3
DTSTAMP:20260423T150004Z
URL:http://business.gardengrovechamber.com/events/details/re-imagine-garden-grove-a-downtown-open-streets-event-10-10-2015-4561
END:VEVENT

END:VCALENDAR
