BEGIN:VCALENDAR
VERSION:2.0
PRODID:-//ChamberMaster//Event Calendar 2.0//EN
METHOD:PUBLISH
X-PUBLISHED-TTL:P3D
REFRESH-INTERVAL:P3D
CALSCALE:GREGORIAN
BEGIN:VEVENT
DTSTART:20170401T220000Z
DTEND:20170402T050000Z
X-MICROSOFT-CDO-ALLDAYEVENT:FALSE
SUMMARY:Re:Imagine Garden Grove - A Downtown Open Streets Event
DESCRIPTION:GET READY FOR GARDEN GROVE'S 3RD ANNUAL OPEN STREETS EVENT! EXPLORE 2.5 MILES OF OPEN ROAD\, WHERE PEDESTRIANS AND CYCLISTS CAN EXPERIENCE GARDEN GROVE CAR-FREE! LOANER BIKES AND PEDICABS WILL BE AVAILABLE\, SO COME OUT AND HIT THE STREETS FROM 3 - 6 PM.\n\nHISTORIC MAIN STREET WILL HOST AN AFTER PARTY FROM 6 PM - 10 PM.
X-ALT-DESC;FMTTYPE=text/html:<span style="font-family: 'Open Sans'\, sans-serif\; line-height: 23px\;">GET READY FOR GARDEN GROVE&#39\;S 3RD ANNUAL OPEN STREETS EVENT! EXPLORE 2.5 MILES OF OPEN ROAD\, WHERE PEDESTRIANS AND CYCLISTS CAN EXPERIENCE GARDEN GROVE CAR-FREE! LOANER BIKES AND PEDICABS WILL BE AVAILABLE\, SO COME OUT AND HIT THE STREETS FROM 3 - 6 PM.<br />\nHISTORIC MAIN STREET WILL HOST AN AFTER PARTY FROM 6 PM - 10 PM.</span>
LOCATION:The eastbound side of Acacia Parkway\, between Nelson and 7th Streets\, will be "open streets" for non-motorized active transportation. Bicycling\, skateboarding\, rollerblading\, running and walking will all be welcome along the south side of the Acacia Parkway median.
UID:e.1315.6082
SEQUENCE:3
DTSTAMP:20260420T043854Z
URL:http://business.gardengrovechamber.com/events/details/re-imagine-garden-grove-a-downtown-open-streets-event-6082
END:VEVENT

END:VCALENDAR
