BEGIN:VCALENDAR
VERSION:2.0
PRODID:-//ChamberMaster//Event Calendar 2.0//EN
METHOD:PUBLISH
X-PUBLISHED-TTL:P3D
REFRESH-INTERVAL:P3D
CALSCALE:GREGORIAN
BEGIN:VEVENT
DTSTART:20171021T170000Z
DTEND:20171021T210000Z
X-MICROSOFT-CDO-ALLDAYEVENT:FALSE
SUMMARY:Redefine Hazard Avenue
DESCRIPTION:Bike\, walk\, skate\, and roll to Redefine Hazard at James Irvine Intermediate School on Saturday\, Oct. 21\, 10:00 am - 2:00 pm. Join your neighbors and friends and enjoy activities\, giveaways\, vendors\, Zumba\, free bike rentals\, a bike rodeo and more! Hazard Avenue will demonstrate future street improvements that make walking and biking in our community safer and more enjoyable. Experience riding your bike on a separated bike lane\, and riding or walking in the neighborhood. Take this opportunity at Redefine Hazard Avenue to get a sneak peek of the future improvements coming to Hazard Avenue. Your input will help us shape the future of our community.
X-ALT-DESC;FMTTYPE=text/html:Bike\, walk\, skate\, and roll to Redefine Hazard at James Irvine Intermediate School on Saturday\, Oct. 21\, 10:00 am - 2:00 pm. Join your neighbors and friends and enjoy activities\, giveaways\, vendors\, Zumba\, free bike rentals\, a bike rodeo and more! Hazard Avenue will demonstrate future street improvements that make walking and biking in our community safer and more enjoyable. Experience riding your bike on a separated bike lane\, and riding or walking in the neighborhood. Take this opportunity at Redefine Hazard Avenue to get a sneak peek of the future improvements coming to Hazard Avenue. Your input will help us shape the future of our community.
LOCATION:James Irvine Intermediate School 10552 W Hazard Ave\, Garden Grove\, CA 92843
UID:e.1315.6229
SEQUENCE:3
DTSTAMP:20260419T193430Z
URL:http://business.gardengrovechamber.com/events/details/redefine-hazard-avenue-6229
END:VEVENT

END:VCALENDAR
