BEGIN:VCALENDAR
VERSION:2.0
PRODID:-//ChamberMaster//Event Calendar 2.0//EN
METHOD:PUBLISH
X-PUBLISHED-TTL:P3D
REFRESH-INTERVAL:P3D
CALSCALE:GREGORIAN
BEGIN:VEVENT
DTSTART:20170510T170000Z
DTEND:20170510T180000Z
X-MICROSOFT-CDO-ALLDAYEVENT:FALSE
SUMMARY:Renaming Ceremony
DESCRIPTION:Your are cordially invited to attend the Renaming Ceremony of the VA Long Beach Medical Center which is being renamed to the Tibor Rubin VA Medical Center. Tibor Rubin was a Garden Grove resident and a World War II here.
X-ALT-DESC;FMTTYPE=text/html:Your are cordially invited to attend the Renaming Ceremony of the VA Long Beach Medical Center which is being renamed to the Tibor Rubin VA Medical Center. Tibor Rubin was a Garden Grove resident and a World War II here.
LOCATION:Tibor Rubin VA Medical Center 5901 E. 7th Street Long Beach\, CA 90822
UID:e.1315.6131
SEQUENCE:3
DTSTAMP:20260420T030220Z
URL:http://business.gardengrovechamber.com/events/details/renaming-ceremony-6131
END:VEVENT

END:VCALENDAR
