BEGIN:VCALENDAR
VERSION:2.0
PRODID:-//ChamberMaster//Event Calendar 2.0//EN
METHOD:PUBLISH
X-PUBLISHED-TTL:P3D
REFRESH-INTERVAL:P3D
CALSCALE:GREGORIAN
BEGIN:VEVENT
DTSTART:20171010T010000Z
DTEND:20171010T050000Z
X-MICROSOFT-CDO-ALLDAYEVENT:FALSE
SUMMARY:Rep. Lou Correa - Town Hall & Immigration Workshop
DESCRIPTION:Join Congressman Lou Correa for an Immigration Workshop and Town Hall Meeting at Ponderosa Elementary School in Anaheim.\n\nLearn about how new immigration policies impact our community\, and ask the Congressman about issues important to you.\n\n\n\nAll Questions Welcome. Please RSVP to ensure your submitted question will be answered first!\n\nFor more information\, please contact:\n\nCassandra.Perez@mail.house.gov or (714) 621-0102
X-ALT-DESC;FMTTYPE=text/html:Join Congressman Lou Correa for an Immigration Workshop and Town Hall Meeting at Ponderosa Elementary School in Anaheim.<br />\nLearn about how new immigration policies impact our community\, and ask the Congressman about issues important to you.<br />\n<br />\nAll Questions Welcome. Please RSVP to ensure your submitted question will be answered first!<br />\nFor more information\, please contact:<br />\nCassandra.Perez@mail.house.gov&nbsp\;or (714) 621-0102
LOCATION:Ponderosa Elementary School Library 2135 S. Mountain View Avenue Anaheim\, CA 92802
UID:e.1315.6228
SEQUENCE:3
DTSTAMP:20260419T192303Z
URL:http://business.gardengrovechamber.com/events/details/rep-lou-correa-town-hall-immigration-workshop-6228
END:VEVENT

END:VCALENDAR
