BEGIN:VCALENDAR
VERSION:2.0
PRODID:-//ChamberMaster//Event Calendar 2.0//EN
METHOD:PUBLISH
X-PUBLISHED-TTL:P3D
REFRESH-INTERVAL:P3D
CALSCALE:GREGORIAN
BEGIN:VEVENT
DTSTART:20160407T230000Z
DTEND:20160408T040000Z
X-MICROSOFT-CDO-ALLDAYEVENT:FALSE
SUMMARY:Ribbon Cutting Ceremony for DaVita Dialysis Garden Grove
DESCRIPTION:Please join us to celebrate the new facility for DaVita Dialysis Garden Grove. Tours will be given at this Open House Event.
X-ALT-DESC;FMTTYPE=text/html:Please join us to celebrate the new facility for DaVita Dialysis Garden Grove. Tours will be given at this Open House Event.
LOCATION:DaVita Dialysis Garden Grove 13054 N. Harbor Blvd. Garden Grove\, CA 92843
UID:e.1315.5116
SEQUENCE:3
DTSTAMP:20260420T233014Z
URL:http://business.gardengrovechamber.com/events/details/ribbon-cutting-ceremony-for-davita-dialysis-garden-grove-04-07-2016-5116
END:VEVENT

END:VCALENDAR
