BEGIN:VCALENDAR
VERSION:2.0
PRODID:-//ChamberMaster//Event Calendar 2.0//EN
METHOD:PUBLISH
X-PUBLISHED-TTL:P3D
REFRESH-INTERVAL:P3D
CALSCALE:GREGORIAN
BEGIN:VEVENT
DTSTART:20150604T003000Z
DTEND:20150604T020000Z
X-MICROSOFT-CDO-ALLDAYEVENT:FALSE
SUMMARY:Ribbon Cutting Ceremony for Dental Group of Orange County
DESCRIPTION:Join us to celebrate and welcome Dental Group of Orange County to Garden Grove with our Ribbon Cutting. Enjoy appetizers and drinks while visiting their new facilities and meeting their staff. This is a great networking opportunity so bring your business cards.
X-ALT-DESC;FMTTYPE=text/html:Join us to celebrate and welcome Dental Group of Orange County to Garden Grove with our <strong>Ribbon Cutting</strong>. Enjoy appetizers and drinks while visiting their new facilities and meeting their staff. This is a great networking opportunity so bring your business cards.
LOCATION:Dental Group of Orange County 9535 Garden Grove Blvd.\, Suite 201 Garden Grove\, CA 92844
UID:e.1315.2930
SEQUENCE:3
DTSTAMP:20260423T204630Z
URL:http://business.gardengrovechamber.com/events/details/ribbon-cutting-ceremony-for-dental-group-of-orange-county-06-03-2015-2930
END:VEVENT

END:VCALENDAR
