BEGIN:VCALENDAR
VERSION:2.0
PRODID:-//ChamberMaster//Event Calendar 2.0//EN
METHOD:PUBLISH
X-PUBLISHED-TTL:P3D
REFRESH-INTERVAL:P3D
CALSCALE:GREGORIAN
BEGIN:VEVENT
DTSTART:20180111T013000Z
DTEND:20180111T030000Z
X-MICROSOFT-CDO-ALLDAYEVENT:FALSE
SUMMARY:Ribbon Cutting Ceremony for Mr Matcha
DESCRIPTION:You're invited to a Ribbon Cutting Ceremony. Please join us in welcoming Mr Matcha to the Garden Grove Chamber and to Main Street!
X-ALT-DESC;FMTTYPE=text/html:You&#39\;re invited to a Ribbon Cutting Ceremony. Please join us in welcoming Mr Matcha to the Garden Grove Chamber and to Main Street!&nbsp\;&nbsp\;&nbsp\;
LOCATION:Mr Matcha 12926 Main Street Unit B Garden Grove\, CA 92840
UID:e.1315.6254
SEQUENCE:3
DTSTAMP:20260419T145703Z
URL:http://business.gardengrovechamber.com/events/details/ribbon-cutting-ceremony-for-mr-matcha-6254
END:VEVENT

END:VCALENDAR
