BEGIN:VCALENDAR
VERSION:2.0
PRODID:-//ChamberMaster//Event Calendar 2.0//EN
METHOD:PUBLISH
X-PUBLISHED-TTL:P3D
REFRESH-INTERVAL:P3D
CALSCALE:GREGORIAN
BEGIN:VEVENT
DTSTART:20150618T190000Z
DTEND:20150618T210000Z
X-MICROSOFT-CDO-ALLDAYEVENT:FALSE
SUMMARY:Ribbon Cutting Ceremony for Out of the Park Pizza
DESCRIPTION:Join us to celebrate and welcome Out of the Park Pizza to Garden Grove with our Ribbon Cutting. Enjoy refreshments provided by the establishment. This is a great networking opportunity so bring your business cards.
X-ALT-DESC;FMTTYPE=text/html:Join us to celebrate and welcome Out of the Park Pizza&nbsp\;to Garden Grove with our <strong>Ribbon Cutting</strong>. Enjoy refreshments provided by the establishment. This is a great networking opportunity so bring your business cards.
LOCATION:Out of the Park Pizza 6038 Ball Road Buena Park\, CA 90620
UID:e.1315.2937
SEQUENCE:3
DTSTAMP:20260423T204734Z
URL:http://business.gardengrovechamber.com/events/details/ribbon-cutting-ceremony-for-out-of-the-park-pizza-06-18-2015-2937
END:VEVENT

END:VCALENDAR
